BEGIN:VCALENDAR
CALSCALE:GREGORIAN
BEGIN:VEVENT
DTSTAMP:20250112T004757Z
DTSTART:20230818T013000Z
DTEND:20230818T033000Z
SUMMARY:Painting @Mountain Mike's Pizza\, Cleveland Ave. Santa Rosa
UID:6b79f63d-c29f-4130-b56c-0b5abc322b79
LOCATION:3125 Cleveland Ave\, Santa Rosa\, CA 95403\, USA
DESCRIPTION:Thank you for registering to our painting event! Your name is on our list\, so don't forget your name\, lol. (Remember to bring your ID if its a drinking establishment) \n\nWe're looking forward to seeing you there.\n\nHere are the details:\nHere are the details:\n\nPainting @Mountain Mike's Pizza\, Cleveland Ave. Santa Rosa\nAugust 17\, 2023\, 6:30 – 8:30 PM\nSanta Rosa\, 3125 Cleveland Ave\, Santa Rosa\, CA 95403\, USA
X-ALT-DESC;FMTTYPE=text/html:Thank you for registering to our painting event! Your name is on our list\, so don't forget your name\, lol. (Remember to bring your ID if its a drinking establishment) \n\nWe're looking forward to seeing you there.\n\nHere are the details:\nHere are the details:<br>Painting @Mountain Mike's Pizza\, Cleveland Ave. Santa Rosa\nAugust 17\, 2023\, 6:30 – 8:30 PM\nSanta Rosa\, 3125 Cleveland Ave\, Santa Rosa\, CA 95403\, USA
END:VEVENT
END:VCALENDAR
