BEGIN:VCALENDAR
CALSCALE:GREGORIAN
BEGIN:VEVENT
DTSTAMP:20250112T004947Z
DTSTART:20231208T013022Z
DTEND:20231208T033523Z
SUMMARY:Wreath Workshop Event at The Lodge in Sonoma
UID:6bbd2af3-aa43-4651-bc95-f6c77d332516
LOCATION:1325 Broadway\, Sonoma\, CA 95476\, USA
DESCRIPTION:Thank you for registering to our painting event! Your name is on our list\, so don't forget your name\, lol. (Remember to bring your ID if its a drinking establishment) \n\nWe're looking forward to seeing you there.\n\nHere are the details:\nHere are the details:\n\nWreath Workshop Event at The Lodge in Sonoma\nDecember 7\, 2023\, 5:30 – 7:35 PM\nThe Lodge at Sonoma\, 1325 Broadway\, Sonoma\, CA 95476\, USA
X-ALT-DESC;FMTTYPE=text/html:Thank you for registering to our painting event! Your name is on our list\, so don't forget your name\, lol. (Remember to bring your ID if its a drinking establishment) \n\nWe're looking forward to seeing you there.\n\nHere are the details:\nHere are the details:<br>Wreath Workshop Event at The Lodge in Sonoma\nDecember 7\, 2023\, 5:30 – 7:35 PM\nThe Lodge at Sonoma\, 1325 Broadway\, Sonoma\, CA 95476\, USA
END:VEVENT
END:VCALENDAR
