BEGIN:VCALENDAR
CALSCALE:GREGORIAN
BEGIN:VEVENT
DTSTAMP:20250112T004714Z
DTSTART:20250115T020000Z
DTEND:20250115T040000Z
SUMMARY: Mc Near's Saloon - Painting 
UID:6f359d9b-a710-45f0-a80f-42527a639091
LOCATION:23 Petaluma Blvd N\, Petaluma\, CA 94952\, USA
DESCRIPTION:Thank you for registering to our painting event! Your name is on our list\, so don't forget your name\, lol. (Remember to bring your ID if its a drinking establishment) \n\nWe're looking forward to seeing you there.\n\nHere are the details:\nHere are the details:\n\nMc Near's Saloon - Painting \nJanuary 14\, 2025\, 6:00 – 8:00 PM\nMc Near's Saloon\, 23 Petaluma Blvd N\, Petaluma\, CA 94952\, USA
X-ALT-DESC;FMTTYPE=text/html:Thank you for registering to our painting event! Your name is on our list\, so don't forget your name\, lol. (Remember to bring your ID if its a drinking establishment) \n\nWe're looking forward to seeing you there.\n\nHere are the details:\nHere are the details:<br>Mc Near's Saloon - Painting \nJanuary 14\, 2025\, 6:00 – 8:00 PM\nMc Near's Saloon\, 23 Petaluma Blvd N\, Petaluma\, CA 94952\, USA
END:VEVENT
END:VCALENDAR
