BEGIN:VCALENDAR
CALSCALE:GREGORIAN
BEGIN:VEVENT
DTSTAMP:20250112T004900Z
DTSTART:20211010T190000Z
DTEND:20211010T230000Z
SUMMARY:Fusion Peruvian Grill -I luv Fall
UID:6fda8d1c-e310-4c2c-a683-474bdf523189
LOCATION:45 N B St\, San Mateo\, CA 94401\, USA
DESCRIPTION:Thank you for registering to our event! Your tickets are attached to this email. Don't forget to bring them.\n\nWe're looking forward to seeing you there.\n\nHere are the details:\n\nFusion Peruvian Grill -I luv Fall\nOctober 10\, 2021 at 12:00 PM\nSan Mateo\, 45 N B St\, San Mateo\, CA 94401\, USA
X-ALT-DESC;FMTTYPE=text/html:Thank you for registering to our event! Your tickets are attached to this email. Don't forget to bring them.\n\nWe're looking forward to seeing you there.\n\nHere are the details:<br>Fusion Peruvian Grill -I luv Fall\nOctober 10\, 2021 at 12:00 PM\nSan Mateo\, 45 N B St\, San Mateo\, CA 94401\, USA
END:VEVENT
END:VCALENDAR
