BEGIN:VCALENDAR
CALSCALE:GREGORIAN
BEGIN:VEVENT
DTSTAMP:20250112T004810Z
DTSTART:20230203T020000Z
DTEND:20230203T040000Z
SUMMARY:Private Painting Event at Mountain Mikes in Santa Rosa
UID:7509b612-6009-4c86-883a-ab762e76233f
LOCATION:3125 Cleveland Ave\, Santa Rosa\, CA 95403\, USA
DESCRIPTION:Thank you for registering to our event! Your tickets are attached to this email. Don't forget to bring them.\n\nWe're looking forward to seeing you there.\n\nHere are the details:\n\nPrivate Painting Event at Mountain Mikes in Santa Rosa\nFebruary 2\, 2023\, 6:00 – 8:00 PM\nSanta Rosa\, 3125 Cleveland Ave\, Santa Rosa\, CA 95403\, USA
X-ALT-DESC;FMTTYPE=text/html:Thank you for registering to our event! Your tickets are attached to this email. Don't forget to bring them.\n\nWe're looking forward to seeing you there.\n\nHere are the details:<br>Private Painting Event at Mountain Mikes in Santa Rosa\nFebruary 2\, 2023\, 6:00 – 8:00 PM\nSanta Rosa\, 3125 Cleveland Ave\, Santa Rosa\, CA 95403\, USA
END:VEVENT
END:VCALENDAR
