BEGIN:VCALENDAR
CALSCALE:GREGORIAN
BEGIN:VEVENT
DTSTAMP:20250112T004737Z
DTSTART:20210603T010000Z
DTEND:20210603T030000Z
SUMMARY:*Canceled***Rooster Painting at Reel and Brand
UID:78159882-7931-4417-8b11-dd114651f1f6
LOCATION:401 Grove St\, Sonoma\, CA 95476\, USA
DESCRIPTION:Thank you for registering to our event! Your tickets are attached to this email. Don't forget to bring them.\n\nWe're looking forward to seeing you there.\n\nHere are the details:\n\n*Canceled***Rooster Painting at Reel and Brand\nJune 2\, 2021\, 6:00 – 8:00 PM\nSonoma\, 401 Grove St\, Sonoma\, CA 95476\, USA
X-ALT-DESC;FMTTYPE=text/html:Thank you for registering to our event! Your tickets are attached to this email. Don't forget to bring them.\n\nWe're looking forward to seeing you there.\n\nHere are the details:<br>*Canceled***Rooster Painting at Reel and Brand\nJune 2\, 2021\, 6:00 – 8:00 PM\nSonoma\, 401 Grove St\, Sonoma\, CA 95476\, USA
END:VEVENT
END:VCALENDAR
