BEGIN:VCALENDAR
CALSCALE:GREGORIAN
BEGIN:VEVENT
DTSTAMP:20250112T005115Z
DTSTART:20230928T013000Z
DTEND:20230928T033000Z
SUMMARY:Painting @Bacchus Restaurant in the Double Tree\, RP
UID:7918548a-1166-45f0-b3ae-0988356b6133
LOCATION:One Doubletree\, Rohnert Park\, CA 94928\, USA
DESCRIPTION:Thank you for registering to our painting event! Your name is on our list\, so don't forget your name\, lol. (Remember to bring your ID if its a drinking establishment) \n\nWe're looking forward to seeing you there.\n\nHere are the details:\nHere are the details:\n\nPainting @Bacchus Restaurant in the Double Tree\, RP\nSeptember 27\, 2023\, 6:30 – 8:30 PM\nBacchus Restaurant at the Double Tree\, One Doubletree\, Rohnert Park\, CA 94928\, USA
X-ALT-DESC;FMTTYPE=text/html:Thank you for registering to our painting event! Your name is on our list\, so don't forget your name\, lol. (Remember to bring your ID if its a drinking establishment) \n\nWe're looking forward to seeing you there.\n\nHere are the details:\nHere are the details:<br>Painting @Bacchus Restaurant in the Double Tree\, RP\nSeptember 27\, 2023\, 6:30 – 8:30 PM\nBacchus Restaurant at the Double Tree\, One Doubletree\, Rohnert Park\, CA 94928\, USA
END:VEVENT
END:VCALENDAR
