BEGIN:VCALENDAR
CALSCALE:GREGORIAN
BEGIN:VEVENT
DTSTAMP:20250112T004905Z
DTSTART:20241122T020000Z
DTEND:20241122T040000Z
SUMMARY:Holiday Shopping Painting@Mountain Mike's Pizza\, Cleveland Ave. Santa Rosa     
UID:70b74357-b145-4d72-80a5-d7d294d102d0
LOCATION:3125 Cleveland Ave\, Santa Rosa\, CA 95403\, USA
DESCRIPTION:Thank you for registering to our painting event! Your name is on our list\, so don't forget your name\, lol. (Remember to bring your ID if its a drinking establishment) \n\nWe're looking forward to seeing you there.\n\nHere are the details:\nHere are the details:\n\nHoliday Shopping Painting@Mountain Mike's Pizza\, Cleveland Ave. Santa Rosa     \nNovember 21\, 2024\, 6:00 – 8:00 PM\nMountian Mike's Pizza\, 3125 Cleveland Ave\, Santa Rosa\, CA 95403\, USA
X-ALT-DESC;FMTTYPE=text/html:Thank you for registering to our painting event! Your name is on our list\, so don't forget your name\, lol. (Remember to bring your ID if its a drinking establishment) \n\nWe're looking forward to seeing you there.\n\nHere are the details:\nHere are the details:<br>Holiday Shopping Painting@Mountain Mike's Pizza\, Cleveland Ave. Santa Rosa     \nNovember 21\, 2024\, 6:00 – 8:00 PM\nMountian Mike's Pizza\, 3125 Cleveland Ave\, Santa Rosa\, CA 95403\, USA
END:VEVENT
END:VCALENDAR
