BEGIN:VCALENDAR
CALSCALE:GREGORIAN
BEGIN:VEVENT
DTSTAMP:20250112T005004Z
DTSTART:20241206T020000Z
DTEND:20241206T040000Z
SUMMARY:Painting@Mountain Mike's Pizza\, Cleveland Ave. Santa Rosa    
UID:71fefdcd-10a2-491a-8417-dd6db6f9a0ef
LOCATION:3125 Cleveland Ave\, Santa Rosa\, CA 95403\, USA
DESCRIPTION:Thank you for registering to our painting event! Your name is on our list\, so don't forget your name\, lol. (Remember to bring your ID if its a drinking establishment) \n\nWe're looking forward to seeing you there.\n\nHere are the details:\nHere are the details:\n\nPainting@Mountain Mike's Pizza\, Cleveland Ave. Santa Rosa    \nDecember 5\, 2024\, 6:00 – 8:00 PM\nMountian Mike's Pizza\, 3125 Cleveland Ave\, Santa Rosa\, CA 95403\, USA
X-ALT-DESC;FMTTYPE=text/html:Thank you for registering to our painting event! Your name is on our list\, so don't forget your name\, lol. (Remember to bring your ID if its a drinking establishment) \n\nWe're looking forward to seeing you there.\n\nHere are the details:\nHere are the details:<br>Painting@Mountain Mike's Pizza\, Cleveland Ave. Santa Rosa    \nDecember 5\, 2024\, 6:00 – 8:00 PM\nMountian Mike's Pizza\, 3125 Cleveland Ave\, Santa Rosa\, CA 95403\, USA
END:VEVENT
END:VCALENDAR
