BEGIN:VCALENDAR
CALSCALE:GREGORIAN
BEGIN:VEVENT
DTSTAMP:20250112T005051Z
DTSTART:20220422T013000Z
DTEND:20220423T033000Z
SUMMARY:Ukraine Fundraiser at Embassy Suites San Rafael
UID:722a6a70-0a8e-4b4d-9e96-782207bc15a8
LOCATION:101 McInnis Pkwy\, San Rafael\, CA 94903\, USA
DESCRIPTION:Thank you for registering to our event! Your tickets are attached to this email. Don't forget to bring them.\n\nWe're looking forward to seeing you there.\n\nHere are the details:\n\nUkraine Fundraiser at Embassy Suites San Rafael\nApril 21\, 2022 at 6:30 PM – April 22\, 2022 at 8:30 PM\nSan Rafael\, 101 McInnis Pkwy\, San Rafael\, CA 94903\, USA
X-ALT-DESC;FMTTYPE=text/html:Thank you for registering to our event! Your tickets are attached to this email. Don't forget to bring them.\n\nWe're looking forward to seeing you there.\n\nHere are the details:<br>Ukraine Fundraiser at Embassy Suites San Rafael\nApril 21\, 2022 at 6:30 PM – April 22\, 2022 at 8:30 PM\nSan Rafael\, 101 McInnis Pkwy\, San Rafael\, CA 94903\, USA
END:VEVENT
END:VCALENDAR
