BEGIN:VCALENDAR
CALSCALE:GREGORIAN
BEGIN:VEVENT
DTSTAMP:20250112T004936Z
DTSTART:20220409T010000Z
DTEND:20220409T023000Z
SUMMARY:Rohnert Park Community Painting Event
UID:7a7cc3bb-8184-401d-bc28-2f314e4dbf66
LOCATION:7545 Bridgit Dr\, Rohnert Park\, CA 94928\, USA
DESCRIPTION:Thank you for registering to our event! Your tickets are attached to this email. Don't forget to bring them.\n\nWe're looking forward to seeing you there.\n\nHere are the details:\n\nRohnert Park Community Painting Event\nApril 8\, 2022\, 6:00 – 7:30 PM\nRohnert Park\, 7545 Bridgit Dr\, Rohnert Park\, CA 94928\, USA
X-ALT-DESC;FMTTYPE=text/html:Thank you for registering to our event! Your tickets are attached to this email. Don't forget to bring them.\n\nWe're looking forward to seeing you there.\n\nHere are the details:<br>Rohnert Park Community Painting Event\nApril 8\, 2022\, 6:00 – 7:30 PM\nRohnert Park\, 7545 Bridgit Dr\, Rohnert Park\, CA 94928\, USA
END:VEVENT
END:VCALENDAR
