BEGIN:VCALENDAR
CALSCALE:GREGORIAN
BEGIN:VEVENT
DTSTAMP:20250112T004733Z
DTSTART:20221008T010000Z
DTEND:20221008T020000Z
SUMMARY:Johanna Ramirez Private Birthday Party Event!
UID:7a5632e5-7c76-4fae-bc0a-c74f91b1de51
LOCATION:1100 Valley House Dr\, Rohnert Park\, CA 94928\, USA
DESCRIPTION:Thank you for registering to our event! Your tickets are attached to this email. Don't forget to bring them.\n\nWe're looking forward to seeing you there.\n\nHere are the details:\n\nJohanna Ramirez Private Birthday Party Event!\nOctober 7\, 2022\, 6:00 – 7:00 PM\nSally Tomatoes in Rohnert Park\, 1100 Valley House Dr\, Rohnert Park\, CA 94928\, USA
X-ALT-DESC;FMTTYPE=text/html:Thank you for registering to our event! Your tickets are attached to this email. Don't forget to bring them.\n\nWe're looking forward to seeing you there.\n\nHere are the details:<br>Johanna Ramirez Private Birthday Party Event!\nOctober 7\, 2022\, 6:00 – 7:00 PM\nSally Tomatoes in Rohnert Park\, 1100 Valley House Dr\, Rohnert Park\, CA 94928\, USA
END:VEVENT
END:VCALENDAR
