BEGIN:VCALENDAR
CALSCALE:GREGORIAN
BEGIN:VEVENT
DTSTAMP:20250112T004811Z
DTSTART:20240620T000022Z
DTEND:20240620T020022Z
SUMMARY:6/19 Non-Profit Paint Night
UID:7c80addd-cbc3-4483-9ffe-0b7810209457
LOCATION:2185 Occidental Rd\, Santa Rosa\, CA 95401\, USA
DESCRIPTION:Thank you for registering to our painting event! Your name is on our list\, so don't forget your name\, lol. (Remember to bring your ID if its a drinking establishment) \n\nWe're looking forward to seeing you there.\n\nHere are the details:\nHere are the details:\n\n6/19 Non-Profit Paint Night\nJune 19\, 2024\, 5:00 – 7:00 PM\nCommunity Room\, 2185 Occidental Rd\, Santa Rosa\, CA 95401\, USA
X-ALT-DESC;FMTTYPE=text/html:Thank you for registering to our painting event! Your name is on our list\, so don't forget your name\, lol. (Remember to bring your ID if its a drinking establishment) \n\nWe're looking forward to seeing you there.\n\nHere are the details:\nHere are the details:<br>6/19 Non-Profit Paint Night\nJune 19\, 2024\, 5:00 – 7:00 PM\nCommunity Room\, 2185 Occidental Rd\, Santa Rosa\, CA 95401\, USA
END:VEVENT
END:VCALENDAR
