BEGIN:VCALENDAR
CALSCALE:GREGORIAN
BEGIN:VEVENT
DTSTAMP:20250112T004816Z
DTSTART:20240501T010000Z
DTEND:20240501T023000Z
SUMMARY:Newcomers' for Alz Walk-  Moss Wall Art Fundraiser @Sally Tomatoes 
UID:7cb033bf-7b18-4e5a-b0aa-e10560e6ce00
LOCATION:1100 Valley House Dr\, Rohnert Park\, CA 94928\, USA
DESCRIPTION:Thank you for registering to our painting event! Your name is on our list\, so don't forget your name\, lol. (Remember to bring your ID if its a drinking establishment) \n\nWe're looking forward to seeing you there.\n\nHere are the details:\nHere are the details:\n\nNewcomers' for Alz Walk-  Moss Wall Art Fundraiser @Sally Tomatoes \nApril 30\, 2024\, 6:00 – 7:30 PM\nSally Tomatoes in Rohnert Park\, 1100 Valley House Dr\, Rohnert Park\, CA 94928\, USA
X-ALT-DESC;FMTTYPE=text/html:Thank you for registering to our painting event! Your name is on our list\, so don't forget your name\, lol. (Remember to bring your ID if its a drinking establishment) \n\nWe're looking forward to seeing you there.\n\nHere are the details:\nHere are the details:<br>Newcomers' for Alz Walk-  Moss Wall Art Fundraiser @Sally Tomatoes \nApril 30\, 2024\, 6:00 – 7:30 PM\nSally Tomatoes in Rohnert Park\, 1100 Valley House Dr\, Rohnert Park\, CA 94928\, USA
END:VEVENT
END:VCALENDAR
