BEGIN:VCALENDAR
CALSCALE:GREGORIAN
BEGIN:VEVENT
DTSTAMP:20250112T004941Z
DTSTART:20220826T013000Z
DTEND:20220826T033000Z
SUMMARY:Painting Event at Embassy Suites San Rafael
UID:85b6adc7-f455-44fd-9196-c3e208dca5a4
LOCATION:101 McInnis Pkwy\, San Rafael\, CA 94903\, USA
DESCRIPTION:Thank you for registering to our event! Your tickets are attached to this email. Don't forget to bring them.\n\nWe're looking forward to seeing you there.\n\nHere are the details:\n\nPainting Event at Embassy Suites San Rafael\nAugust 25\, 2022\, 6:30 – 8:30 PM\nSan Rafael\, 101 McInnis Pkwy\, San Rafael\, CA 94903\, USA
X-ALT-DESC;FMTTYPE=text/html:Thank you for registering to our event! Your tickets are attached to this email. Don't forget to bring them.\n\nWe're looking forward to seeing you there.\n\nHere are the details:<br>Painting Event at Embassy Suites San Rafael\nAugust 25\, 2022\, 6:30 – 8:30 PM\nSan Rafael\, 101 McInnis Pkwy\, San Rafael\, CA 94903\, USA
END:VEVENT
END:VCALENDAR
