BEGIN:VCALENDAR
CALSCALE:GREGORIAN
BEGIN:VEVENT
DTSTAMP:20250112T005026Z
DTSTART:20220108T220000Z
DTEND:20220109T020000Z
SUMMARY:Owl Painting for 6th Birthday Party 
UID:812b28ef-a1da-4d05-b3dc-aedd95a7a7a0
LOCATION:Petaluma\, CA\, USA
DESCRIPTION:Thank you for registering to our event! Your tickets are attached to this email. Don't forget to bring them.\n\nWe're looking forward to seeing you there.\n\nHere are the details:\n\nOwl Painting for 6th Birthday Party \nJanuary 8\, 2022 at 2:00 PM\nMichelle House in Petaluma\, Petaluma\, CA\, USA
X-ALT-DESC;FMTTYPE=text/html:Thank you for registering to our event! Your tickets are attached to this email. Don't forget to bring them.\n\nWe're looking forward to seeing you there.\n\nHere are the details:<br>Owl Painting for 6th Birthday Party \nJanuary 8\, 2022 at 2:00 PM\nMichelle House in Petaluma\, Petaluma\, CA\, USA
END:VEVENT
END:VCALENDAR
