BEGIN:VCALENDAR
CALSCALE:GREGORIAN
BEGIN:VEVENT
DTSTAMP:20250112T005029Z
DTSTART:20230616T010000Z
DTEND:20230616T030000Z
SUMMARY:Humming Bird Painting @ Tonti Family Wines
UID:81d53197-1ee8-4f98-82b0-aa1837041a50
LOCATION:9086 Windsor Rd\, Windsor\, CA 95492\, USA
DESCRIPTION:Thank you for registering to our painting event! Your name is on our list\, so don't forget your name\, lol. (Remember to bring your ID if its a drinking establishment) \n\nWe're looking forward to seeing you there.\n\nHere are the details:\nHere are the details:\n\nHumming Bird Painting @ Tonti Family Wines\nJune 15\, 2023\, 6:00 – 8:00 PM\nTonti Family Wines\, 9086 Windsor Rd\, Windsor\, CA 95492\, USA
X-ALT-DESC;FMTTYPE=text/html:Thank you for registering to our painting event! Your name is on our list\, so don't forget your name\, lol. (Remember to bring your ID if its a drinking establishment) \n\nWe're looking forward to seeing you there.\n\nHere are the details:\nHere are the details:<br>Humming Bird Painting @ Tonti Family Wines\nJune 15\, 2023\, 6:00 – 8:00 PM\nTonti Family Wines\, 9086 Windsor Rd\, Windsor\, CA 95492\, USA
END:VEVENT
END:VCALENDAR
