BEGIN:VCALENDAR
CALSCALE:GREGORIAN
BEGIN:VEVENT
DTSTAMP:20250112T005119Z
DTSTART:20220408T013000Z
DTEND:20220408T033000Z
SUMMARY:PAINT YOUR PET Event at Embassy Suites San Rafael
UID:8cb5392d-ecd4-42e7-a9ff-6a560eb4f52b
LOCATION:101 McInnis Pkwy\, San Rafael\, CA 94903\, USA
DESCRIPTION:Thank you for registering to our event! Your tickets are attached to this email. Don't forget to bring them.\n\nWe're looking forward to seeing you there.\n\nHere are the details:\n\nPAINT YOUR PET Event at Embassy Suites San Rafael\nApril 7\, 2022\, 6:30 – 8:30 PM\nSan Rafael\, 101 McInnis Pkwy\, San Rafael\, CA 94903\, USA
X-ALT-DESC;FMTTYPE=text/html:Thank you for registering to our event! Your tickets are attached to this email. Don't forget to bring them.\n\nWe're looking forward to seeing you there.\n\nHere are the details:<br>PAINT YOUR PET Event at Embassy Suites San Rafael\nApril 7\, 2022\, 6:30 – 8:30 PM\nSan Rafael\, 101 McInnis Pkwy\, San Rafael\, CA 94903\, USA
END:VEVENT
END:VCALENDAR
