BEGIN:VCALENDAR
CALSCALE:GREGORIAN
BEGIN:VEVENT
DTSTAMP:20250112T004852Z
DTSTART:20241220T020000Z
DTEND:20241220T040000Z
SUMMARY:Painting@Mountain Mike's Pizza\, Cleveland Ave. Santa Rosa     
UID:8d3fbb32-ef3c-4aff-bf2b-0f488011097c
LOCATION:3125 Cleveland Ave\, Santa Rosa\, CA 95403\, USA
DESCRIPTION:Thank you for registering to our painting event! Your name is on our list\, so don't forget your name\, lol. (Remember to bring your ID if its a drinking establishment) \n\nWe're looking forward to seeing you there.\n\nHere are the details:\nHere are the details:\n\nPainting@Mountain Mike's Pizza\, Cleveland Ave. Santa Rosa     \nDecember 19\, 2024\, 6:00 – 8:00 PM\nMountian Mike's Pizza\, 3125 Cleveland Ave\, Santa Rosa\, CA 95403\, USA
X-ALT-DESC;FMTTYPE=text/html:Thank you for registering to our painting event! Your name is on our list\, so don't forget your name\, lol. (Remember to bring your ID if its a drinking establishment) \n\nWe're looking forward to seeing you there.\n\nHere are the details:\nHere are the details:<br>Painting@Mountain Mike's Pizza\, Cleveland Ave. Santa Rosa     \nDecember 19\, 2024\, 6:00 – 8:00 PM\nMountian Mike's Pizza\, 3125 Cleveland Ave\, Santa Rosa\, CA 95403\, USA
END:VEVENT
END:VCALENDAR
