BEGIN:VCALENDAR
CALSCALE:GREGORIAN
BEGIN:VEVENT
DTSTAMP:20250112T004742Z
DTSTART:20231026T010022Z
DTEND:20231026T030022Z
SUMMARY:Jennifers Private Painting Party
UID:8d1076d2-08f7-4b9a-9ccf-2f3c7d2504d6
LOCATION:16 Brookside Ct\, Novato\, CA 94947\, USA
DESCRIPTION:Thank you for registering to our painting event! Your name is on our list\, so don't forget your name\, lol. (Remember to bring your ID if its a drinking establishment) \n\nWe're looking forward to seeing you there.\n\nHere are the details:\nHere are the details:\n\nJennifers Private Painting Party\nOctober 25\, 2023\, 6:00 – 8:00 PM\nJennifers Pool House\, 16 Brookside Ct\, Novato\, CA 94947\, USA
X-ALT-DESC;FMTTYPE=text/html:Thank you for registering to our painting event! Your name is on our list\, so don't forget your name\, lol. (Remember to bring your ID if its a drinking establishment) \n\nWe're looking forward to seeing you there.\n\nHere are the details:\nHere are the details:<br>Jennifers Private Painting Party\nOctober 25\, 2023\, 6:00 – 8:00 PM\nJennifers Pool House\, 16 Brookside Ct\, Novato\, CA 94947\, USA
END:VEVENT
END:VCALENDAR
