BEGIN:VCALENDAR
CALSCALE:GREGORIAN
BEGIN:VEVENT
DTSTAMP:20250112T004747Z
DTSTART:20221105T200000Z
DTEND:20221105T220000Z
SUMMARY:Private Painting Event at the Flamingo Hotel
UID:8f6d8f2e-7808-4d50-bdf4-a9d2ce3458d7
LOCATION:2777 4th St\, Santa Rosa\, CA 95405\, USA
DESCRIPTION:Thank you for registering to our event! Your tickets are attached to this email. Don't forget to bring them.\n\nWe're looking forward to seeing you there.\n\nHere are the details:\n\nPrivate Painting Event at the Flamingo Hotel\nNovember 5\, 2022\, 1:00 – 3:00 PM\nSanta Rosa\, 2777 4th St\, Santa Rosa\, CA 95405\, USA
X-ALT-DESC;FMTTYPE=text/html:Thank you for registering to our event! Your tickets are attached to this email. Don't forget to bring them.\n\nWe're looking forward to seeing you there.\n\nHere are the details:<br>Private Painting Event at the Flamingo Hotel\nNovember 5\, 2022\, 1:00 – 3:00 PM\nSanta Rosa\, 2777 4th St\, Santa Rosa\, CA 95405\, USA
END:VEVENT
END:VCALENDAR
