BEGIN:VCALENDAR
CALSCALE:GREGORIAN
BEGIN:VEVENT
DTSTAMP:20250112T005055Z
DTSTART:20220210T023000Z
DTEND:20220210T043000Z
SUMMARY:Painting Event at Reel and Brand 
UID:976053eb-05e5-4817-8e10-978d90f31085
LOCATION:401 Grove St\, Sonoma\, CA 95476\, USA
DESCRIPTION:Thank you for registering to our event! Your tickets are attached to this email. Don't forget to bring them.\n\nWe're looking forward to seeing you there.\n\nHere are the details:\n\nPainting Event at Reel and Brand \nFebruary 9\, 2022\, 6:30 – 8:30 PM\nReel and Brand Restaurant\, 401 Grove St\, Sonoma\, CA 95476\, USA
X-ALT-DESC;FMTTYPE=text/html:Thank you for registering to our event! Your tickets are attached to this email. Don't forget to bring them.\n\nWe're looking forward to seeing you there.\n\nHere are the details:<br>Painting Event at Reel and Brand \nFebruary 9\, 2022\, 6:30 – 8:30 PM\nReel and Brand Restaurant\, 401 Grove St\, Sonoma\, CA 95476\, USA
END:VEVENT
END:VCALENDAR
