BEGIN:VCALENDAR
CALSCALE:GREGORIAN
BEGIN:VEVENT
DTSTAMP:20250112T004807Z
DTSTART:20210722T010000Z
DTEND:20210722T030000Z
SUMMARY:Lighthouse Sunset Painting @ Sally Tomatoes in RP 
UID:984978fb-1d19-46c1-8500-4fc50e3c333c
LOCATION:1100 Valley House Dr\, Rohnert Park\, CA 94928\, USA
DESCRIPTION:Thank you for registering to our painting event! Your name is on our list\, so don't forget your name\, lol. (Remember to bring your ID if its a drinking establishment) \n\nWe're looking forward to seeing you there.\n\nHere are the details:\nHere are the details:\n\nLighthouse Sunset Painting @ Sally Tomatoes in RP \nJuly 21\, 2021\, 6:00 – 8:00 PM PDT\nSally Tomatoes in Rohnert Park\, 1100 Valley House Dr\, Rohnert Park\, CA 94928\, USA
X-ALT-DESC;FMTTYPE=text/html:Thank you for registering to our painting event! Your name is on our list\, so don't forget your name\, lol. (Remember to bring your ID if its a drinking establishment) \n\nWe're looking forward to seeing you there.\n\nHere are the details:\nHere are the details:<br>Lighthouse Sunset Painting @ Sally Tomatoes in RP \nJuly 21\, 2021\, 6:00 – 8:00 PM PDT\nSally Tomatoes in Rohnert Park\, 1100 Valley House Dr\, Rohnert Park\, CA 94928\, USA
END:VEVENT
END:VCALENDAR
