BEGIN:VCALENDAR
CALSCALE:GREGORIAN
BEGIN:VEVENT
DTSTAMP:20250112T004835Z
DTSTART:20241120T020000Z
DTEND:20241120T040000Z
SUMMARY: Painting@McNears Saloon in Petaluma  
UID:909d7dd3-ed72-4904-9478-7c94b5a9695b
LOCATION:23 Petaluma Blvd N\, Petaluma\, CA 94952\, USA
DESCRIPTION:Thank you for registering to our painting event! Your name is on our list\, so don't forget your name\, lol. (Remember to bring your ID if its a drinking establishment) \n\nWe're looking forward to seeing you there.\n\nHere are the details:\nHere are the details:\n\nPainting@McNears Saloon in Petaluma  \nNovember 19\, 2024\, 6:00 – 8:00 PM\nMcNear's Saloon & Dining House\, 23 Petaluma Blvd N\, Petaluma\, CA 94952\, USA
X-ALT-DESC;FMTTYPE=text/html:Thank you for registering to our painting event! Your name is on our list\, so don't forget your name\, lol. (Remember to bring your ID if its a drinking establishment) \n\nWe're looking forward to seeing you there.\n\nHere are the details:\nHere are the details:<br>Painting@McNears Saloon in Petaluma  \nNovember 19\, 2024\, 6:00 – 8:00 PM\nMcNear's Saloon & Dining House\, 23 Petaluma Blvd N\, Petaluma\, CA 94952\, USA
END:VEVENT
END:VCALENDAR
