BEGIN:VCALENDAR
CALSCALE:GREGORIAN
BEGIN:VEVENT
DTSTAMP:20250112T004848Z
DTSTART:20240918T010000Z
DTEND:20240918T030000Z
SUMMARY:Wood Painting @McNear's in Petaluma
UID:936baa40-c56d-4022-9f75-6f074fd6c51f
LOCATION:23 Petaluma Blvd N\, Petaluma\, CA 94952\, USA
DESCRIPTION:Thank you for registering to our painting event! Your name is on our list\, so don't forget your name\, lol. (Remember to bring your ID if its a drinking establishment) \n\nWe're looking forward to seeing you there.\n\nHere are the details:\nHere are the details:\n\nWood Painting @McNear's in Petaluma\nSeptember 17\, 2024\, 6:00 – 8:00 PM\nMcNears Salloon\, 23 Petaluma Blvd N\, Petaluma\, CA 94952\, USA
X-ALT-DESC;FMTTYPE=text/html:Thank you for registering to our painting event! Your name is on our list\, so don't forget your name\, lol. (Remember to bring your ID if its a drinking establishment) \n\nWe're looking forward to seeing you there.\n\nHere are the details:\nHere are the details:<br>Wood Painting @McNear's in Petaluma\nSeptember 17\, 2024\, 6:00 – 8:00 PM\nMcNears Salloon\, 23 Petaluma Blvd N\, Petaluma\, CA 94952\, USA
END:VEVENT
END:VCALENDAR
