BEGIN:VCALENDAR
CALSCALE:GREGORIAN
BEGIN:VEVENT
DTSTAMP:20250112T004909Z
DTSTART:20230330T010000Z
DTEND:20230330T030000Z
SUMMARY:Wood Painting @ Sally Tomatoes in RP
UID:9a41fa9f-6b2b-4af4-b006-bb19459ba71f
LOCATION:1100 Valley House Dr\, Rohnert Park\, CA 94928\, USA
DESCRIPTION:Thank you for registering to our painting event! Your name is on our list\, so don't forget your name\, lol. (Remember to bring your ID if its a drinking establishment) \n\nWe're looking forward to seeing you there.\n\nHere are the details:\nHere are the details:\n\nWood Painting @ Sally Tomatoes in RP\nMarch 29\, 2023\, 6:00 – 8:00 PM\nSally Tomatoes in Rohnert Park\, 1100 Valley House Dr\, Rohnert Park\, CA 94928\, USA
X-ALT-DESC;FMTTYPE=text/html:Thank you for registering to our painting event! Your name is on our list\, so don't forget your name\, lol. (Remember to bring your ID if its a drinking establishment) \n\nWe're looking forward to seeing you there.\n\nHere are the details:\nHere are the details:<br>Wood Painting @ Sally Tomatoes in RP\nMarch 29\, 2023\, 6:00 – 8:00 PM\nSally Tomatoes in Rohnert Park\, 1100 Valley House Dr\, Rohnert Park\, CA 94928\, USA
END:VEVENT
END:VCALENDAR
