BEGIN:VCALENDAR
CALSCALE:GREGORIAN
BEGIN:VEVENT
DTSTAMP:20250112T004800Z
DTSTART:20230728T010000Z
DTEND:20230728T030000Z
SUMMARY:Old European Door Painting @ Tonti Family Wines 
UID:9cd898de-c051-4bc5-a87c-96e87da51b0e
LOCATION:9086 Windsor Rd\, Windsor\, CA 95492\, USA
DESCRIPTION:Thank you for registering to our painting event! Your name is on our list\, so don't forget your name\, lol. (Remember to bring your ID if its a drinking establishment) \n\nWe're looking forward to seeing you there.\n\nHere are the details:\nHere are the details:\n\nOld European Door Painting @ Tonti Family Wines \nJuly 27\, 2023\, 6:00 – 8:00 PM\nTonti Family Wines\, 9086 Windsor Rd\, Windsor\, CA 95492\, USA
X-ALT-DESC;FMTTYPE=text/html:Thank you for registering to our painting event! Your name is on our list\, so don't forget your name\, lol. (Remember to bring your ID if its a drinking establishment) \n\nWe're looking forward to seeing you there.\n\nHere are the details:\nHere are the details:<br>Old European Door Painting @ Tonti Family Wines \nJuly 27\, 2023\, 6:00 – 8:00 PM\nTonti Family Wines\, 9086 Windsor Rd\, Windsor\, CA 95492\, USA
END:VEVENT
END:VCALENDAR
