BEGIN:VCALENDAR
CALSCALE:GREGORIAN
BEGIN:VEVENT
DTSTAMP:20250112T004811Z
DTSTART:20241203T020022Z
DTEND:20241203T040023Z
SUMMARY:Wreath Workshop Event @Epicenter
UID:9da6ac4f-42f2-48f2-8bbe-956995f3aa02
LOCATION:3215 Coffey Ln\, Santa Rosa\, CA 95403\, USA
DESCRIPTION:Thank you for registering to our painting event! Your name is on our list\, so don't forget your name\, lol. (Remember to bring your ID if its a drinking establishment) \n\nWe're looking forward to seeing you there.\n\nHere are the details:\nHere are the details:\n\nWreath Workshop Event @Epicenter\nDecember 2\, 2024\, 6:00 – 8:00 PM\nVictory House- Epicenter\, Santa Rosa\, 3215 Coffey Ln\, Santa Rosa\, CA 95403\, USA
X-ALT-DESC;FMTTYPE=text/html:Thank you for registering to our painting event! Your name is on our list\, so don't forget your name\, lol. (Remember to bring your ID if its a drinking establishment) \n\nWe're looking forward to seeing you there.\n\nHere are the details:\nHere are the details:<br>Wreath Workshop Event @Epicenter\nDecember 2\, 2024\, 6:00 – 8:00 PM\nVictory House- Epicenter\, Santa Rosa\, 3215 Coffey Ln\, Santa Rosa\, CA 95403\, USA
END:VEVENT
END:VCALENDAR
