BEGIN:VCALENDAR
CALSCALE:GREGORIAN
BEGIN:VEVENT
DTSTAMP:20250112T005111Z
DTSTART:20221219T010000Z
DTEND:20221219T030000Z
SUMMARY: Colors of Winter Painting Event @Bear Republic 12/18/22 
UID:9dc20fef-1d72-42ed-a772-efb538a60053
LOCATION:5000 Roberts Lake Rd\, Rohnert Park\, CA 94928\, USA
DESCRIPTION:Thank you for registering to our painting event! Your name is on our list\, so don't forget your name\, lol. (Remember to bring your ID if its a drinking establishment) \n\nWe're looking forward to seeing you there.\n\nHere are the details:\nHere are the details:\n\nColors of Winter Painting Event @Bear Republic 12/18/22 \nDecember 18\, 2022\, 5:00 – 7:00 PM\nBear Republic Brewing Co.\, 5000 Roberts Lake Rd\, Rohnert Park\, CA 94928\, USA
X-ALT-DESC;FMTTYPE=text/html:Thank you for registering to our painting event! Your name is on our list\, so don't forget your name\, lol. (Remember to bring your ID if its a drinking establishment) \n\nWe're looking forward to seeing you there.\n\nHere are the details:\nHere are the details:<br>Colors of Winter Painting Event @Bear Republic 12/18/22 \nDecember 18\, 2022\, 5:00 – 7:00 PM\nBear Republic Brewing Co.\, 5000 Roberts Lake Rd\, Rohnert Park\, CA 94928\, USA
END:VEVENT
END:VCALENDAR
