BEGIN:VCALENDAR
CALSCALE:GREGORIAN
BEGIN:VEVENT
DTSTAMP:20250112T005105Z
DTSTART:20240920T013000Z
DTEND:20240920T033000Z
SUMMARY:Painting@Mountain Mike's Pizza\, Cleveland Ave. Santa Rosa   
UID:9de2bfc6-90db-45b3-a93b-720ea21dbbac
LOCATION:3125 Cleveland Ave\, Santa Rosa\, CA 95403\, USA
DESCRIPTION:Thank you for registering to our painting event! Your name is on our list\, so don't forget your name\, lol. (Remember to bring your ID if its a drinking establishment) \n\nWe're looking forward to seeing you there.\n\nHere are the details:\nHere are the details:\n\nPainting@Mountain Mike's Pizza\, Cleveland Ave. Santa Rosa   \nSeptember 19\, 2024\, 6:30 – 8:30 PM\nMountian Mike's Pizza\, 3125 Cleveland Ave\, Santa Rosa\, CA 95403\, USA
X-ALT-DESC;FMTTYPE=text/html:Thank you for registering to our painting event! Your name is on our list\, so don't forget your name\, lol. (Remember to bring your ID if its a drinking establishment) \n\nWe're looking forward to seeing you there.\n\nHere are the details:\nHere are the details:<br>Painting@Mountain Mike's Pizza\, Cleveland Ave. Santa Rosa   \nSeptember 19\, 2024\, 6:30 – 8:30 PM\nMountian Mike's Pizza\, 3125 Cleveland Ave\, Santa Rosa\, CA 95403\, USA
END:VEVENT
END:VCALENDAR
