BEGIN:VCALENDAR
CALSCALE:GREGORIAN
BEGIN:VEVENT
DTSTAMP:20250112T004805Z
DTSTART:20231201T010022Z
DTEND:20231201T024522Z
SUMMARY:Wreath Workshop Event @Mountain Mike's Pizza
UID:9eb99845-ae76-4f1e-a233-289803ea0304
LOCATION:3125 Cleveland Ave\, Santa Rosa\, CA 95403\, USA
DESCRIPTION:Thank you for registering to our painting event! Your name is on our list\, so don't forget your name\, lol. (Remember to bring your ID if its a drinking establishment) \n\nWe're looking forward to seeing you there.\n\nHere are the details:\nHere are the details:\n\nWreath Workshop Event @Mountain Mike's Pizza\nNovember 30\, 2023\, 5:00 – 6:45 PM\nMountain Mike's Pizza\, 3125 Cleveland Ave\, Santa Rosa\, CA 95403\, USA
X-ALT-DESC;FMTTYPE=text/html:Thank you for registering to our painting event! Your name is on our list\, so don't forget your name\, lol. (Remember to bring your ID if its a drinking establishment) \n\nWe're looking forward to seeing you there.\n\nHere are the details:\nHere are the details:<br>Wreath Workshop Event @Mountain Mike's Pizza\nNovember 30\, 2023\, 5:00 – 6:45 PM\nMountain Mike's Pizza\, 3125 Cleveland Ave\, Santa Rosa\, CA 95403\, USA
END:VEVENT
END:VCALENDAR
