BEGIN:VCALENDAR
CALSCALE:GREGORIAN
BEGIN:VEVENT
DTSTAMP:20250112T004836Z
DTSTART:20241115T020000Z
DTEND:20241115T040000Z
SUMMARY:Crafted Centerpiece @Tasting Notes 
UID:a4fa4a6d-18c2-4388-97bf-530e1d6d62a2
LOCATION:9086 Windsor Rd\, Windsor\, CA 95492\, USA
DESCRIPTION:Thank you for registering to our painting event! Your name is on our list\, so don't forget your name\, lol. (Remember to bring your ID if its a drinking establishment) \n\nWe're looking forward to seeing you there.\n\nHere are the details:\nHere are the details:\n\nCrafted Centerpiece @Tasting Notes \nNovember 14\, 2024\, 6:00 – 8:00 PM\nWindsor\, 9086 Windsor Rd\, Windsor\, CA 95492\, USA
X-ALT-DESC;FMTTYPE=text/html:Thank you for registering to our painting event! Your name is on our list\, so don't forget your name\, lol. (Remember to bring your ID if its a drinking establishment) \n\nWe're looking forward to seeing you there.\n\nHere are the details:\nHere are the details:<br>Crafted Centerpiece @Tasting Notes \nNovember 14\, 2024\, 6:00 – 8:00 PM\nWindsor\, 9086 Windsor Rd\, Windsor\, CA 95492\, USA
END:VEVENT
END:VCALENDAR
