BEGIN:VCALENDAR
CALSCALE:GREGORIAN
BEGIN:VEVENT
DTSTAMP:20250112T005042Z
DTSTART:20230519T003000Z
DTEND:20230519T014500Z
SUMMARY:Succulents in 1/2 Wine Bottle @ Tonti Family Wines 
UID:a8896e59-9559-4c36-a2ae-bd3068bbff4f
LOCATION:9086 Windsor Rd\, Windsor\, CA 95492\, USA
DESCRIPTION:Thank you for registering to our painting event! Your name is on our list\, so don't forget your name\, lol. (Remember to bring your ID if its a drinking establishment) \n\nWe're looking forward to seeing you there.\n\nHere are the details:\nHere are the details:\n\nSucculents in 1/2 Wine Bottle @ Tonti Family Wines \nMay 18\, 2023\, 5:30 – 6:45 PM\nTonti Family Wine\, 9086 Windsor Rd\, Windsor\, CA 95492\, USA
X-ALT-DESC;FMTTYPE=text/html:Thank you for registering to our painting event! Your name is on our list\, so don't forget your name\, lol. (Remember to bring your ID if its a drinking establishment) \n\nWe're looking forward to seeing you there.\n\nHere are the details:\nHere are the details:<br>Succulents in 1/2 Wine Bottle @ Tonti Family Wines \nMay 18\, 2023\, 5:30 – 6:45 PM\nTonti Family Wine\, 9086 Windsor Rd\, Windsor\, CA 95492\, USA
END:VEVENT
END:VCALENDAR
