BEGIN:VCALENDAR
CALSCALE:GREGORIAN
BEGIN:VEVENT
DTSTAMP:20250112T005010Z
DTSTART:20231108T010000Z
DTEND:20231108T030000Z
SUMMARY:Newcomers' for Alz Walk Painting Fundraiser @Sally Tomatoes 
UID:a8b075c5-9c86-44b2-a898-9f5ffaa0f300
LOCATION:1100 Valley House Dr\, Rohnert Park\, CA 94928\, USA
DESCRIPTION:Thank you for registering to our painting event! Your name is on our list\, so don't forget your name\, lol. (Remember to bring your ID if its a drinking establishment) \n\nWe're looking forward to seeing you there.\n\nHere are the details:\nHere are the details:\n\nNewcomers' for Alz Walk Painting Fundraiser @Sally Tomatoes \nNovember 7\, 2023\, 5:00 – 7:00 PM\nSally Tomatoes in Rohnert Park\, 1100 Valley House Dr\, Rohnert Park\, CA 94928\, USA
X-ALT-DESC;FMTTYPE=text/html:Thank you for registering to our painting event! Your name is on our list\, so don't forget your name\, lol. (Remember to bring your ID if its a drinking establishment) \n\nWe're looking forward to seeing you there.\n\nHere are the details:\nHere are the details:<br>Newcomers' for Alz Walk Painting Fundraiser @Sally Tomatoes \nNovember 7\, 2023\, 5:00 – 7:00 PM\nSally Tomatoes in Rohnert Park\, 1100 Valley House Dr\, Rohnert Park\, CA 94928\, USA
END:VEVENT
END:VCALENDAR
