BEGIN:VCALENDAR
CALSCALE:GREGORIAN
BEGIN:VEVENT
DTSTAMP:20250112T004752Z
DTSTART:20220512T013000Z
DTEND:20220512T013500Z
SUMMARY:Painting Event at Reel and Brand
UID:a9124ae8-3db4-4b75-82d9-28b07f45e89a
LOCATION:401 Grove St\, Sonoma\, CA 95476\, USA
DESCRIPTION:Thank you for registering to our event! Your tickets are attached to this email. Don't forget to bring them.\n\nWe're looking forward to seeing you there.\n\nHere are the details:\n\nPainting Event at Reel and Brand\nMay 11\, 2022\, 6:30 – 6:35 PM\nReel and Brand Restaurant\, 401 Grove St\, Sonoma\, CA 95476\, USA
X-ALT-DESC;FMTTYPE=text/html:Thank you for registering to our event! Your tickets are attached to this email. Don't forget to bring them.\n\nWe're looking forward to seeing you there.\n\nHere are the details:<br>Painting Event at Reel and Brand\nMay 11\, 2022\, 6:30 – 6:35 PM\nReel and Brand Restaurant\, 401 Grove St\, Sonoma\, CA 95476\, USA
END:VEVENT
END:VCALENDAR
