BEGIN:VCALENDAR
CALSCALE:GREGORIAN
BEGIN:VEVENT
DTSTAMP:20250112T004948Z
DTSTART:20240504T220022Z
DTEND:20240505T003022Z
SUMMARY:Paint and Chartutery 
UID:a0d447de-1197-4132-acb2-53db00f2f60c
LOCATION:1000 Main St\, St Helena\, CA 94574\, USA
X-ALT-DESC;FMTTYPE=text/html:
END:VEVENT
END:VCALENDAR
