BEGIN:VCALENDAR
CALSCALE:GREGORIAN
BEGIN:VEVENT
DTSTAMP:20250112T004817Z
DTSTART:20220212T020000Z
DTEND:20220212T040000Z
SUMMARY:****Private Painting
UID:a1b63f65-b26c-4d42-bf7c-4abf5daeebf6
LOCATION:
DESCRIPTION:Thank you for registering to our event! Your tickets are attached to this email. Don't forget to bring them.\n\nWe're looking forward to seeing you there.\n\nHere are the details:\n\n****Private Painting\nFebruary 11\, 2022\, 6:00 – 8:00 PM\nVirtual
X-ALT-DESC;FMTTYPE=text/html:Thank you for registering to our event! Your tickets are attached to this email. Don't forget to bring them.\n\nWe're looking forward to seeing you there.\n\nHere are the details:<br>****Private Painting\nFebruary 11\, 2022\, 6:00 – 8:00 PM\nVirtual
END:VEVENT
END:VCALENDAR
