BEGIN:VCALENDAR
CALSCALE:GREGORIAN
BEGIN:VEVENT
DTSTAMP:20250112T004747Z
DTSTART:20230915T010000Z
DTEND:20230915T033000Z
SUMMARY: Paint Your Pet Painting @Mountain Mike's Pizza\, Cleveland Ave. Santa Rosa 
UID:a3ed5b30-e438-4411-81dc-1fc68a7ed30a
LOCATION:3125 Cleveland Ave\, Santa Rosa\, CA 95403\, USA
DESCRIPTION:Thank you for registering to our painting event! Your name is on our list\, so don't forget your name\, lol. (Remember to bring your ID if its a drinking establishment) \n\nWe're looking forward to seeing you there.\n\nHere are the details:\nHere are the details:\n\nPaint Your Pet Painting @Mountain Mike's Pizza\, Cleveland Ave. Santa Rosa \nSeptember 14\, 2023\, 6:00 – 8:30 PM\nMountian Mike's Pizza\, 3125 Cleveland Ave\, Santa Rosa\, CA 95403\, USA
X-ALT-DESC;FMTTYPE=text/html:Thank you for registering to our painting event! Your name is on our list\, so don't forget your name\, lol. (Remember to bring your ID if its a drinking establishment) \n\nWe're looking forward to seeing you there.\n\nHere are the details:\nHere are the details:<br>Paint Your Pet Painting @Mountain Mike's Pizza\, Cleveland Ave. Santa Rosa \nSeptember 14\, 2023\, 6:00 – 8:30 PM\nMountian Mike's Pizza\, 3125 Cleveland Ave\, Santa Rosa\, CA 95403\, USA
END:VEVENT
END:VCALENDAR
