BEGIN:VCALENDAR
CALSCALE:GREGORIAN
BEGIN:VEVENT
DTSTAMP:20250112T004819Z
DTSTART:20211219T200000Z
DTEND:20211219T220000Z
SUMMARY:Holiday Gnome
UID:aa8e753c-aeff-44b5-9ea5-8194d67d8624
LOCATION:45 N B St\, San Mateo\, CA 94401\, USA
DESCRIPTION:Thank you for registering to our event! Your tickets are attached to this email. Don't forget to bring them.\n\nWe're looking forward to seeing you there.\n\nHere are the details:\n\nHoliday Gnome\nDecember 19\, 2021\, 12:00 – 2:00 PM\nSan Mateo\, 45 N B St\, San Mateo\, CA 94401\, USA
X-ALT-DESC;FMTTYPE=text/html:Thank you for registering to our event! Your tickets are attached to this email. Don't forget to bring them.\n\nWe're looking forward to seeing you there.\n\nHere are the details:<br>Holiday Gnome\nDecember 19\, 2021\, 12:00 – 2:00 PM\nSan Mateo\, 45 N B St\, San Mateo\, CA 94401\, USA
END:VEVENT
END:VCALENDAR
