BEGIN:VCALENDAR
CALSCALE:GREGORIAN
BEGIN:VEVENT
DTSTAMP:20250112T004929Z
DTSTART:20210723T173000Z
DTEND:20210723T193000Z
SUMMARY:Summit State Bank Private Painting Event
UID:ab3a4678-24ec-4bc2-9c10-53eb3ccc832d
LOCATION:1100 Valley House Dr\, Rohnert Park\, CA 94928\, USA
DESCRIPTION:Thank you for registering to our event! Your tickets are attached to this email. Don't forget to bring them.\n\nWe're looking forward to seeing you there.\n\nHere are the details:\n\nSummit State Bank Private Painting Event\nJuly 23\, 2021\, 10:30 AM – 12:30 PM\nRohnert Park\, 1100 Valley House Dr\, Rohnert Park\, CA 94928\, USA
X-ALT-DESC;FMTTYPE=text/html:Thank you for registering to our event! Your tickets are attached to this email. Don't forget to bring them.\n\nWe're looking forward to seeing you there.\n\nHere are the details:<br>Summit State Bank Private Painting Event\nJuly 23\, 2021\, 10:30 AM – 12:30 PM\nRohnert Park\, 1100 Valley House Dr\, Rohnert Park\, CA 94928\, USA
END:VEVENT
END:VCALENDAR
