BEGIN:VCALENDAR
CALSCALE:GREGORIAN
BEGIN:VEVENT
DTSTAMP:20250112T004830Z
DTSTART:20240726T013000Z
DTEND:20240726T033000Z
SUMMARY:Painting@Mountain Mike's Pizza\, Cleveland Ave. Santa Rosa    
UID:ac471a53-7bd0-4248-8a61-27d1ef191b91
LOCATION:3125 Cleveland Ave\, Santa Rosa\, CA 95403\, USA
DESCRIPTION:Thank you for registering to our painting event! Your name is on our list\, so don't forget your name\, lol. (Remember to bring your ID if its a drinking establishment) \n\nWe're looking forward to seeing you there.\n\nHere are the details:\nHere are the details:\n\nPainting@Mountain Mike's Pizza\, Cleveland Ave. Santa Rosa    \nJuly 25\, 2024\, 6:30 – 8:30 PM\nMountian Mike's Pizza\, 3125 Cleveland Ave\, Santa Rosa\, CA 95403\, USA
X-ALT-DESC;FMTTYPE=text/html:Thank you for registering to our painting event! Your name is on our list\, so don't forget your name\, lol. (Remember to bring your ID if its a drinking establishment) \n\nWe're looking forward to seeing you there.\n\nHere are the details:\nHere are the details:<br>Painting@Mountain Mike's Pizza\, Cleveland Ave. Santa Rosa    \nJuly 25\, 2024\, 6:30 – 8:30 PM\nMountian Mike's Pizza\, 3125 Cleveland Ave\, Santa Rosa\, CA 95403\, USA
END:VEVENT
END:VCALENDAR
