BEGIN:VCALENDAR
CALSCALE:GREGORIAN
BEGIN:VEVENT
DTSTAMP:20250112T005118Z
DTSTART:20240410T010000Z
DTEND:20240410T033000Z
SUMMARY:Paint Your Pet @Sally Tomatoes  
UID:ad3caccb-d0a1-4a6a-b209-ebb3a787794d
LOCATION:1100 Valley House Dr\, Rohnert Park\, CA 94928\, USA
DESCRIPTION:Thank you for registering to our painting event!\nPlease reply to this email or email\, Info@asipofcolor.com \nInclude:\nYour name you signed up under. Date of event and a photo of your pets face. Please send us a clear image\, Ideally your pets face down at there level\, straight on. Tip\, take a short video of your pet and send an image from that.  Please do so with in 24 hours of signing up. Thank you!\n\n Your name is on our list\, so don't forget your name\, lol. (Remember to bring your ID if its a drinking establishment) \n\nWe're looking forward to seeing you there.\n\nHere are the details:\n\nPaint Your Pet @Sally Tomatoes  \nApril 9\, 2024\, 6:00 – 8:30 PM\nSally Tomatoes in Rohnert Park\, 1100 Valley House Dr\, Rohnert Park\, CA 94928\, USA
X-ALT-DESC;FMTTYPE=text/html:Thank you for registering to our painting event!\nPlease reply to this email or email\, Info@asipofcolor.com \nInclude:\nYour name you signed up under. Date of event and a photo of your pets face. Please send us a clear image\, Ideally your pets face down at there level\, straight on. Tip\, take a short video of your pet and send an image from that.  Please do so with in 24 hours of signing up. Thank you!\n\n Your name is on our list\, so don't forget your name\, lol. (Remember to bring your ID if its a drinking establishment) \n\nWe're looking forward to seeing you there.\n\nHere are the details:<br>Paint Your Pet @Sally Tomatoes  \nApril 9\, 2024\, 6:00 – 8:30 PM\nSally Tomatoes in Rohnert Park\, 1100 Valley House Dr\, Rohnert Park\, CA 94928\, USA
END:VEVENT
END:VCALENDAR
