BEGIN:VCALENDAR
CALSCALE:GREGORIAN
BEGIN:VEVENT
DTSTAMP:20250112T004950Z
DTSTART:20240522T010000Z
DTEND:20240522T030000Z
SUMMARY: Painting@McNears in Petaluma
UID:ad9c50ce-b540-45c4-a19d-b7a6bfe29d02
LOCATION:23 Petaluma Blvd N\, Petaluma\, CA 94952\, USA
DESCRIPTION:Thank you for registering to our painting event! Your name is on our list\, so don't forget your name\, lol. (Remember to bring your ID if its a drinking establishment) \n\nWe're looking forward to seeing you there.\n\nHere are the details:\nHere are the details:\n\nPainting@McNears in Petaluma\nMay 21\, 2024\, 6:00 – 8:00 PM\nMcNear's Saloon & Dining House\, 23 Petaluma Blvd N\, Petaluma\, CA 94952\, USA
X-ALT-DESC;FMTTYPE=text/html:Thank you for registering to our painting event! Your name is on our list\, so don't forget your name\, lol. (Remember to bring your ID if its a drinking establishment) \n\nWe're looking forward to seeing you there.\n\nHere are the details:\nHere are the details:<br>Painting@McNears in Petaluma\nMay 21\, 2024\, 6:00 – 8:00 PM\nMcNear's Saloon & Dining House\, 23 Petaluma Blvd N\, Petaluma\, CA 94952\, USA
END:VEVENT
END:VCALENDAR
