BEGIN:VCALENDAR
CALSCALE:GREGORIAN
BEGIN:VEVENT
DTSTAMP:20250112T004713Z
DTSTART:20250221T020000Z
DTEND:20250221T040000Z
SUMMARY:Tasting Notes - Wood Wall Art Event
UID:b437770d-b491-4a07-a1df-5df54fce3199
LOCATION:9086 Windsor Rd\, Windsor\, CA 95492\, USA
DESCRIPTION:Thank you for registering to our painting event! Your name is on our list\, so don't forget your name\, lol. (Remember to bring your ID if its a drinking establishment) \n\nWe're looking forward to seeing you there.\n\nHere are the details:\nHere are the details:\n\nTasting Notes - Wood Wall Art Event\nFebruary 20\, 2025\, 6:00 – 8:00 PM\nTasting Notes - Wine Lounge Collective\, 9086 Windsor Rd\, Windsor\, CA 95492\, USA
X-ALT-DESC;FMTTYPE=text/html:Thank you for registering to our painting event! Your name is on our list\, so don't forget your name\, lol. (Remember to bring your ID if its a drinking establishment) \n\nWe're looking forward to seeing you there.\n\nHere are the details:\nHere are the details:<br>Tasting Notes - Wood Wall Art Event\nFebruary 20\, 2025\, 6:00 – 8:00 PM\nTasting Notes - Wine Lounge Collective\, 9086 Windsor Rd\, Windsor\, CA 95492\, USA
END:VEVENT
END:VCALENDAR
