BEGIN:VCALENDAR
CALSCALE:GREGORIAN
BEGIN:VEVENT
DTSTAMP:20250112T005044Z
DTSTART:20210429T003000Z
DTEND:20210429T033000Z
SUMMARY:Painting "Hydrangeas on Wood"at Sally Tomatoes
UID:b5110e9b-d30a-4f3a-8fa4-f741244684e2
LOCATION:1100 Valley House Dr\, Rohnert Park\, CA 94928\, USA
DESCRIPTION:Thank you for registering to our painting event! Your name is on our list\, so don't forget your name\, lol. (Remember to bring your ID if its a drinking establishment) \n\nWe're looking forward to seeing you there.\n\nHere are the details:\n\nPainting "Hydrangeas on Wood"at Sally Tomatoes\nApril 28\, 2021\, 5:30 – 8:30 PM\nSally Tomatoes in Rohnert Park\, 1100 Valley House Dr\, Rohnert Park\, CA 94928\, USA
X-ALT-DESC;FMTTYPE=text/html:Thank you for registering to our painting event! Your name is on our list\, so don't forget your name\, lol. (Remember to bring your ID if its a drinking establishment) \n\nWe're looking forward to seeing you there.\n\nHere are the details:<br>Painting "Hydrangeas on Wood"at Sally Tomatoes\nApril 28\, 2021\, 5:30 – 8:30 PM\nSally Tomatoes in Rohnert Park\, 1100 Valley House Dr\, Rohnert Park\, CA 94928\, USA
END:VEVENT
END:VCALENDAR
