BEGIN:VCALENDAR
CALSCALE:GREGORIAN
BEGIN:VEVENT
DTSTAMP:20250112T004745Z
DTSTART:20230128T000000Z
DTEND:20230128T020000Z
SUMMARY:Private Painting Event Bodega
UID:b7a5aa57-031a-4186-b8f5-9efa97a8bcb9
DESCRIPTION:Thank you for registering to our event! Your tickets are attached to this email. Don't forget to bring them.\n\nWe're looking forward to seeing you there.\n\nHere are the details:\n\nPrivate Painting Event Bodega\nJanuary 27\, 2023\, 4:00 – 6:00 PM\nLocation is TBD
X-ALT-DESC;FMTTYPE=text/html:Thank you for registering to our event! Your tickets are attached to this email. Don't forget to bring them.\n\nWe're looking forward to seeing you there.\n\nHere are the details:<br>Private Painting Event Bodega\nJanuary 27\, 2023\, 4:00 – 6:00 PM\nLocation is TBD
END:VEVENT
END:VCALENDAR
