BEGIN:VCALENDAR
CALSCALE:GREGORIAN
BEGIN:VEVENT
DTSTAMP:20250112T004905Z
DTSTART:20211117T220000Z
DTEND:20211118T000000Z
SUMMARY:Painting with the Red Hat Ladies @ Reel and Brand
UID:b18fba88-c949-4c69-810a-19387ea4d17f
LOCATION:401 Grove St\, Sonoma\, CA 95476\, USA
DESCRIPTION:Thank you for registering to our event! Your tickets are attached to this email. Don't forget to bring them.\n\nWe're looking forward to seeing you there.\n\nHere are the details:\n\nPainting with the Red Hat Ladies @ Reel and Brand\nNovember 17\, 2021\, 2:00 – 4:00 PM PST\nReel and Brand Restaurant\, 401 Grove St\, Sonoma\, CA 95476\, USA
X-ALT-DESC;FMTTYPE=text/html:Thank you for registering to our event! Your tickets are attached to this email. Don't forget to bring them.\n\nWe're looking forward to seeing you there.\n\nHere are the details:<br>Painting with the Red Hat Ladies @ Reel and Brand\nNovember 17\, 2021\, 2:00 – 4:00 PM PST\nReel and Brand Restaurant\, 401 Grove St\, Sonoma\, CA 95476\, USA
END:VEVENT
END:VCALENDAR
