BEGIN:VCALENDAR
CALSCALE:GREGORIAN
BEGIN:VEVENT
DTSTAMP:20250112T002957Z
DTSTART:20250117T020000Z
DTEND:20250117T040000Z
SUMMARY:Tasting Notes - Painting
UID:b28caeb2-e9f7-4228-8c59-53125dbc3d8c
LOCATION:9086 Windsor Rd\, Windsor\, CA 95492\, USA
DESCRIPTION:Thank you for registering to our painting event! Your name is on our list\, so don't forget your name\, lol. (Remember to bring your ID if its a drinking establishment) \n\nWe're looking forward to seeing you there.\n\nHere are the details:\nHere are the details:\n\nTasting Notes - Painting\nJanuary 16\, 2025\, 6:00 – 8:00 PM\nTasting Notes - Wine Lounge Collective\, 9086 Windsor Rd\, Windsor\, CA 95492\, USA
X-ALT-DESC;FMTTYPE=text/html:Thank you for registering to our painting event! Your name is on our list\, so don't forget your name\, lol. (Remember to bring your ID if its a drinking establishment) \n\nWe're looking forward to seeing you there.\n\nHere are the details:\nHere are the details:<br>Tasting Notes - Painting\nJanuary 16\, 2025\, 6:00 – 8:00 PM\nTasting Notes - Wine Lounge Collective\, 9086 Windsor Rd\, Windsor\, CA 95492\, USA
END:VEVENT
END:VCALENDAR
