BEGIN:VCALENDAR
CALSCALE:GREGORIAN
BEGIN:VEVENT
DTSTAMP:20250112T005118Z
DTSTART:20240204T223000Z
DTEND:20240205T000000Z
SUMMARY:Ritesh's 50th Birthday Painting Party 
UID:b369e1e3-b67b-4c83-b695-0edbe8430029
LOCATION:At Leveroni & Napa Roads\, 1325 Broadway\, Sonoma\, CA 95476\, USA
DESCRIPTION:Thank you for registering to our painting event! Your name is on our list\, so don't forget your name\, lol. (Remember to bring your ID if its a drinking establishment) \n\nWe're looking forward to seeing you there.\n\nHere are the details:\nHere are the details:\n\nRitesh's 50th Birthday Painting Party \nFebruary 4\, 2024\, 2:30 – 4:00 PM\nThe Lodge of Sonoma\, At Leveroni & Napa Roads\, 1325 Broadway\, Sonoma\, CA 95476\, USA
X-ALT-DESC;FMTTYPE=text/html:Thank you for registering to our painting event! Your name is on our list\, so don't forget your name\, lol. (Remember to bring your ID if its a drinking establishment) \n\nWe're looking forward to seeing you there.\n\nHere are the details:\nHere are the details:<br>Ritesh's 50th Birthday Painting Party \nFebruary 4\, 2024\, 2:30 – 4:00 PM\nThe Lodge of Sonoma\, At Leveroni & Napa Roads\, 1325 Broadway\, Sonoma\, CA 95476\, USA
END:VEVENT
END:VCALENDAR
