BEGIN:VCALENDAR
CALSCALE:GREGORIAN
BEGIN:VEVENT
DTSTAMP:20250112T005056Z
DTSTART:20230526T013000Z
DTEND:20230526T033000Z
SUMMARY:Hydrangea Painting @Mountain Mike's Pizza\, Cleveland Ave. Santa Rosa
UID:bae4cb0b-efe6-4bcd-825d-81b466dce8f7
LOCATION:3125 Cleveland Ave\, Santa Rosa\, CA 95403\, USA
DESCRIPTION:Thank you for registering to our painting event! Your name is on our list\, so don't forget your name\, lol. (Remember to bring your ID if its a drinking establishment) \n\nWe're looking forward to seeing you there.\n\nHere are the details:\nHere are the details:\n\nHydrangea Painting @Mountain Mike's Pizza\, Cleveland Ave. Santa Rosa\nMay 25\, 2023\, 6:30 – 8:30 PM\nSanta Rosa\, 3125 Cleveland Ave\, Santa Rosa\, CA 95403\, USA
X-ALT-DESC;FMTTYPE=text/html:Thank you for registering to our painting event! Your name is on our list\, so don't forget your name\, lol. (Remember to bring your ID if its a drinking establishment) \n\nWe're looking forward to seeing you there.\n\nHere are the details:\nHere are the details:<br>Hydrangea Painting @Mountain Mike's Pizza\, Cleveland Ave. Santa Rosa\nMay 25\, 2023\, 6:30 – 8:30 PM\nSanta Rosa\, 3125 Cleveland Ave\, Santa Rosa\, CA 95403\, USA
END:VEVENT
END:VCALENDAR
